BEGIN:VCALENDAR
VERSION:2.0
PRODID:-//Manitoba Prospectors and Developers Association - ECPv6.15.20//NONSGML v1.0//EN
CALSCALE:GREGORIAN
METHOD:PUBLISH
X-WR-CALNAME:Manitoba Prospectors and Developers Association
X-ORIGINAL-URL:https://mpda.ca
X-WR-CALDESC:Events for Manitoba Prospectors and Developers Association
REFRESH-INTERVAL;VALUE=DURATION:PT1H
X-Robots-Tag:noindex
X-PUBLISHED-TTL:PT1H
BEGIN:VTIMEZONE
TZID:America/Chicago
BEGIN:DAYLIGHT
TZOFFSETFROM:-0600
TZOFFSETTO:-0500
TZNAME:CDT
DTSTART:20240310T080000
END:DAYLIGHT
BEGIN:STANDARD
TZOFFSETFROM:-0500
TZOFFSETTO:-0600
TZNAME:CST
DTSTART:20241103T070000
END:STANDARD
BEGIN:DAYLIGHT
TZOFFSETFROM:-0600
TZOFFSETTO:-0500
TZNAME:CDT
DTSTART:20250309T080000
END:DAYLIGHT
BEGIN:STANDARD
TZOFFSETFROM:-0500
TZOFFSETTO:-0600
TZNAME:CST
DTSTART:20251102T070000
END:STANDARD
BEGIN:DAYLIGHT
TZOFFSETFROM:-0600
TZOFFSETTO:-0500
TZNAME:CDT
DTSTART:20260308T080000
END:DAYLIGHT
BEGIN:STANDARD
TZOFFSETFROM:-0500
TZOFFSETTO:-0600
TZNAME:CST
DTSTART:20261101T070000
END:STANDARD
END:VTIMEZONE
BEGIN:VEVENT
DTSTART;TZID=America/Chicago:20250917T080000
DTEND;TZID=America/Chicago:20250918T170000
DTSTAMP:20260424T103423
CREATED:20250903T191008Z
LAST-MODIFIED:20250910T205151Z
UID:4037-1758096000-1758214800@mpda.ca
SUMMARY:Critical Minerals Short Courses
DESCRIPTION:Register for an intense short course. Take your skills to the next level and benefit from mineral resource exploration and development. Our courses offer in-depth understanding of the sector. \n \nCOURSES: \n\nEnvironmental Monitoring/Guardians (1 day)\nJob & Business Opportunities (1 day)\nProspecting/Geological Assistants (1 day)\nManitoba Rules and Regulations (1 day)\nCritical Minerals: Business and Finance (2 days)\n\nONE DAY COURSE PRICE: \n\nMPDA Member: $175.00 +GST\nNon-Member: $225.00 +GST\n\nTWO DAY COURSE PRICE: \n\nMPDA Member: $230.00 +GST\nNon-Member: $285.00 +GST
URL:https://mpda.ca/event/critical-minerals-short-courses/
LOCATION:The Viscount Gort Hotel\, 1670 Portage Ave\, Winnipeg\, Manitoba\, R3J 0C9\, Canada
ATTACH;FMTTYPE=image/png:https://mpda.ca/wp-content/uploads/2025/09/Banner-Website-Critical-Minerals-Sept.-.png
END:VEVENT
END:VCALENDAR