BEGIN:VCALENDAR
VERSION:2.0
PRODID:-//Manitoba Prospectors and Developers Association - ECPv6.15.20//NONSGML v1.0//EN
CALSCALE:GREGORIAN
METHOD:PUBLISH
X-ORIGINAL-URL:https://mpda.ca
X-WR-CALDESC:Events for Manitoba Prospectors and Developers Association
REFRESH-INTERVAL;VALUE=DURATION:PT1H
X-Robots-Tag:noindex
X-PUBLISHED-TTL:PT1H
BEGIN:VTIMEZONE
TZID:America/Chicago
BEGIN:DAYLIGHT
TZOFFSETFROM:-0600
TZOFFSETTO:-0500
TZNAME:CDT
DTSTART:20240310T080000
END:DAYLIGHT
BEGIN:STANDARD
TZOFFSETFROM:-0500
TZOFFSETTO:-0600
TZNAME:CST
DTSTART:20241103T070000
END:STANDARD
BEGIN:DAYLIGHT
TZOFFSETFROM:-0600
TZOFFSETTO:-0500
TZNAME:CDT
DTSTART:20250309T080000
END:DAYLIGHT
BEGIN:STANDARD
TZOFFSETFROM:-0500
TZOFFSETTO:-0600
TZNAME:CST
DTSTART:20251102T070000
END:STANDARD
BEGIN:DAYLIGHT
TZOFFSETFROM:-0600
TZOFFSETTO:-0500
TZNAME:CDT
DTSTART:20260308T080000
END:DAYLIGHT
BEGIN:STANDARD
TZOFFSETFROM:-0500
TZOFFSETTO:-0600
TZNAME:CST
DTSTART:20261101T070000
END:STANDARD
END:VTIMEZONE
BEGIN:VEVENT
DTSTART;TZID=America/Chicago:20251211T170000
DTEND;TZID=America/Chicago:20251211T200000
DTSTAMP:20260424T133746
CREATED:20251117T173659Z
LAST-MODIFIED:20251117T174717Z
UID:4468-1765472400-1765483200@mpda.ca
SUMMARY:Holiday Reception
DESCRIPTION:🎄 Join Us for the MPDA Holiday Reception! 🎄 \nEnjoy good company and great conversations as we wrap up another successful year together. \n📅 Date: Thursday\, December 11\, 2025\n🕔 Time: 5:00 PM\n📍 Location: Chop Steakhouse & Bar \n🎟️ Tickets: Complimentary (RSVP required) \n✨ Spots are limited! 👉 mpdaca@gmail.com
URL:https://mpda.ca/event/holiday-reception/
LOCATION:Chop Steakhouse & Bar\, 1750 Sargent Ave.\, Winnipeg\, Manitoba\, R3H 0C7\, Canada
ATTACH;FMTTYPE=image/png:https://mpda.ca/wp-content/uploads/2025/11/Holiday-Reception-2026-.png
END:VEVENT
END:VCALENDAR